BEGIN:VCALENDAR
VERSION:2.0
PRODID:-//WypiekAna - ECPv5.8.1//NONSGML v1.0//EN
CALSCALE:GREGORIAN
METHOD:PUBLISH
X-WR-CALNAME:WypiekAna
X-ORIGINAL-URL:https://www.wypiekana.pl
X-WR-CALDESC:Events for WypiekAna
BEGIN:VTIMEZONE
TZID:Europe/Warsaw
BEGIN:DAYLIGHT
TZOFFSETFROM:+0100
TZOFFSETTO:+0200
TZNAME:CEST
DTSTART:20180325T010000
END:DAYLIGHT
BEGIN:STANDARD
TZOFFSETFROM:+0200
TZOFFSETTO:+0100
TZNAME:CET
DTSTART:20181028T010000
END:STANDARD
END:VTIMEZONE
BEGIN:VEVENT
DTSTART;TZID=Europe/Warsaw:20181215T143000
DTEND;TZID=Europe/Warsaw:20181215T183000
DTSTAMP:20260423T105501
CREATED:20181202T153250Z
LAST-MODIFIED:20181203T104502Z
UID:816-1544884200-1544898600@www.wypiekana.pl
SUMMARY:Zimowy Tort w stylu Naked Cake 15.12.2018
DESCRIPTION:  \nPodczas warsztatów każdy z uczestników przygotuje Zimowy tort w stylu Naked cake.\nTort przyozdobimy korzennymi przyprawami\, pomarańczami pierniczkami\, żurawiną\, makiem czy też gałązkami świerku oraz różnymi świątecznymi gadżetami.\nBędzie smacznie\, pięknie.\nNaked Cake w stylu zimowym\nPrzebieg warsztatów: \n\nWypiek Biszkoptu- jak zrobić idealny biszkopt\nNasączanie biszkoptu\nPrzygotowanie kremu do tortu\nPlanowanie tortu\nSkładanie tortu\nDekorowanie\n\nPodczas warsztatów zapewniamy: \n\ndoskonałą zabawę\,\nfartuch dla każdego uczestnika\,\nuszykowane stanowisko pracy z wszystkimi produktami\,\nwodę mineralną\, kawę i herbatę\,\nmateriały szkoleniowe\,\nopakowania na wynos\, dzięki którym podzielisz się swoimi potrawami z najbliższymi\,\npomoc w wykonywaniu ciast i cenne wskazówki\,\ncertyfikat ukończenia warsztatów.\n\nDodatkowo nauczycie się używać rękawa cukierniczego\, składać tort w rancie jak i bez rantu- różne techniki składania tortu. \nKażdy uczestnik wykonany tort zabiera do domu. \nDodatkowo do każdego tortu\, uczestnik będzie miał możliwość  zabrać ze sobą do domu surowy plaster drewna do dekoracji- kwota 20 zł\, przy zapisie na warsztaty prosimy o informację. \n  \n  \nIlość miejsc ograniczona (max 6) \nCzas Trwania 4h \nKoszt: 200  zł  \nPromocja Mikołajkowa\nZapisy: \nakademia@wypiekana.pl\, \ntel. 608-419-930 \nwiadomość FB \nFormularz kontaktowy: \nBłąd: Brak formularza kontaktowego. \nUczestnictwo w warsztatach jest równoznaczne z akceptacją regulaminu:\nRegulamin Akademia WypiekAna
URL:https://www.wypiekana.pl/wydarzenie/zimowy-tort-w-stylu-naked-cake/
LOCATION:WypiekAna\, Podwale Staromiejskie 62/68a\, Gdańsk\, Pomorskie\, 80-845\, Poland
CATEGORIES:warsztaty
ATTACH;FMTTYPE=image/jpeg:https://www.wypiekana.pl/wp-content/uploads/2018/12/IMG_20181130_111253_553.jpg
END:VEVENT
END:VCALENDAR