BEGIN:VCALENDAR
VERSION:2.0
PRODID:-//WypiekAna - ECPv5.8.1//NONSGML v1.0//EN
CALSCALE:GREGORIAN
METHOD:PUBLISH
X-WR-CALNAME:WypiekAna
X-ORIGINAL-URL:https://www.wypiekana.pl
X-WR-CALDESC:Events for WypiekAna
BEGIN:VTIMEZONE
TZID:Europe/Warsaw
BEGIN:DAYLIGHT
TZOFFSETFROM:+0100
TZOFFSETTO:+0200
TZNAME:CEST
DTSTART:20190331T010000
END:DAYLIGHT
BEGIN:STANDARD
TZOFFSETFROM:+0200
TZOFFSETTO:+0100
TZNAME:CET
DTSTART:20191027T010000
END:STANDARD
END:VTIMEZONE
BEGIN:VEVENT
DTSTART;TZID=Europe/Warsaw:20190126T143000
DTEND;TZID=Europe/Warsaw:20190126T183000
DTSTAMP:20260425T143033
CREATED:20181204T064803Z
LAST-MODIFIED:20190211T153854Z
UID:836-1548513000-1548527400@www.wypiekana.pl
SUMMARY:Tort Naked Cake
DESCRIPTION:Warsztaty:  Tort w stylu Naked cake\nNaked Cake\nPrzebieg warsztatów: \n\nWypiek Biszkoptu- jak zrobić idealny biszkopt\nNasączanie biszkoptu\nPrzygotowanie kremu do tortu\nPrzygotowanie bezików\, lizaków bezowych o\nPlanowanie tortu\nSkładanie tortu\nDekorowanie\n\nPodczas warsztatów zapewniamy: \n\ndoskonałą zabawę\,\nfartuch dla każdego uczestnika\,\nuszykowane stanowisko pracy z wszystkimi produktami\,\nwodę mineralną\, kawę i herbatę\,\nmateriały szkoleniowe\,\nopakowania na wynos\, dzięki którym podzielisz się swoimi potrawami z najbliższymi\,\npomoc w wykonywaniu ciast i cenne wskazówki\,\ncertyfikat ukończenia warsztatów.\n\nDodatkowo nauczycie się używać rękawa cukierniczego\, składać tort w rancie jak i bez rantu- różne techniki składania tortu. \nKażdy uczestnik wykonany tort zabiera do domu. \nDodatkowo do każdego tortu\, uczestnik będzie miał możliwość  zabrać ze sobą do domu surowy plaster drewna do dekoracji- kwota 20 zł\, przy zapisie na warsztaty prosimy o informację. \n  \n \n \n \nIlość miejsc ograniczona (max 6) \nCzas Trwania 4h \nKoszt: 300  zł\nZapisy: \nakademia@wypiekana.pl\, \ntel. 608-419-930 \nwiadomość FB \n  \n  \nFormularz kontaktowy: \nBłąd: Brak formularza kontaktowego. \nUczestnictwo w warsztatach jest równoznaczne z akceptacją regulaminu:\nRegulamin Akademia WypiekAna \n \n 
URL:https://www.wypiekana.pl/wydarzenie/tort-w-stylu-nake-cake-od-a-do-z/
CATEGORIES:warsztaty
ATTACH;FMTTYPE=image/jpeg:https://www.wypiekana.pl/wp-content/uploads/2018/12/IMG_20181218_092355_696.jpg
END:VEVENT
END:VCALENDAR