BEGIN:VCALENDAR
VERSION:2.0
PRODID:-//WypiekAna - ECPv5.8.1//NONSGML v1.0//EN
CALSCALE:GREGORIAN
METHOD:PUBLISH
X-WR-CALNAME:WypiekAna
X-ORIGINAL-URL:https://www.wypiekana.pl
X-WR-CALDESC:Events for WypiekAna
BEGIN:VTIMEZONE
TZID:Europe/Warsaw
BEGIN:DAYLIGHT
TZOFFSETFROM:+0100
TZOFFSETTO:+0200
TZNAME:CEST
DTSTART:20200329T010000
END:DAYLIGHT
BEGIN:STANDARD
TZOFFSETFROM:+0200
TZOFFSETTO:+0100
TZNAME:CET
DTSTART:20201025T010000
END:STANDARD
END:VTIMEZONE
BEGIN:VEVENT
DTSTART;TZID=Europe/Warsaw:20200419T083000
DTEND;TZID=Europe/Warsaw:20200419T163000
DTSTAMP:20260420T190234
CREATED:20190302T064242Z
LAST-MODIFIED:20200224T104632Z
UID:2474-1587285000-1587313800@www.wypiekana.pl
SUMMARY:Słodki Stół\, Candy Bar- szkolenie: przygotowanie i organizacja
DESCRIPTION:      Candy Bar\, Słodki stół szkolenie \nZapraszamy na szkolenie z organizacji i przygotowania Słodkich stołów 💓🏵️\n            TRÓJMIASTO\nWarsztaty skierowane są dla wszystkich bez względu na posiadane doświadczenie w pieczeniu. \nKameralna Grupa pozwoli nam swobodnie tworzyć 🙂 \nDużo wiedzy praktycznej jak i merytorycznej \n💓\nZakres szkolenia:\n💟 Jak zorganizować słodki stół-\n💟 Jak policzyć odpowiednią ilość porcji słodkiego stołu\, wycena\n💟 Jakie słodkości wykonywać na słodkie stoły.\n💟 Wykonanie słodyczy między innymi: cake pops\, muffiny\, deserki\, tartaletki\, ciasteczka\, lemoniady i wiele innych przepisów idealnie sprawdzających się na słodki stół\n💟 Aranżacja słodkiego stołu w różnych stylach\n💟Wykonanie słodkiego stołu w stylu glamour\n \nDodatkowo:\n👉Jak pakować słodki stół\, transport\n👉 Jak dobierać gadżety\, zastawy\, gdzie kupować oraz triki dekoracyjne do słodkiego stołu.\n  \n  \n  \n  \nIlość miejsc ograniczona \nCzas Trwania 8.30-16.30 \nKoszt: 650 zł \nZapisy: \nakademia@wypiekana.pl \ntel. 608-419-930 \nLub kup bilet : \n  \n\n\n \n  \n  \nMiejsce Wydarzenia \nAkademia WypiekAna \nJesionowa 13/2 \n80-261 Gdańsk \n  \nUczestnictwo w warsztatach jest równoznaczne z akceptacją regulaminu: \nRegulamin Akademia WypiekAna \n 
URL:https://www.wypiekana.pl/wydarzenie/szkolenie-slodki-stol-2/
LOCATION:WypiekAna\, ul. Kartuska 396/3\, Gdańsk\, pomorskie\, 80-845\, Poland
CATEGORIES:warsztaty
ATTACH;FMTTYPE=image/jpeg:https://www.wypiekana.pl/wp-content/uploads/2019/03/słodki-stół-wypiekana-trojmiasto.jpg
ORGANIZER;CN="WypiekAna":MAILTO:akademia@wypiekana.pl
END:VEVENT
END:VCALENDAR