BEGIN:VCALENDAR
VERSION:2.0
PRODID:-//WypiekAna - ECPv5.8.1//NONSGML v1.0//EN
CALSCALE:GREGORIAN
METHOD:PUBLISH
X-WR-CALNAME:WypiekAna
X-ORIGINAL-URL:https://www.wypiekana.pl
X-WR-CALDESC:Events for WypiekAna
BEGIN:VTIMEZONE
TZID:Europe/Warsaw
BEGIN:DAYLIGHT
TZOFFSETFROM:+0100
TZOFFSETTO:+0200
TZNAME:CEST
DTSTART:20190331T010000
END:DAYLIGHT
BEGIN:STANDARD
TZOFFSETFROM:+0200
TZOFFSETTO:+0100
TZNAME:CET
DTSTART:20191027T010000
END:STANDARD
END:VTIMEZONE
BEGIN:VEVENT
DTSTART;TZID=Europe/Warsaw:20190126T090000
DTEND;TZID=Europe/Warsaw:20190126T140000
DTSTAMP:20260425T142837
CREATED:20181218T145051Z
LAST-MODIFIED:20190211T153125Z
UID:863-1548493200-1548511200@www.wypiekana.pl
SUMMARY:Fit Torty
DESCRIPTION:Warsztaty cukiernicze Fit Tort\n                                                                                                               TRÓJMIASTO\n \n  \n\nPodczas warsztatów poznacie jak ze zwykłych prostych produktów stworzyć pyszne\, zdrowe\, niskokaloryczne tort\, które smakowo nie różnią się od tradycyjnych cukierniczych wyrobów.\nStworzymy torty ze zdobieniem Drip Cake.\nNauczymy się wypiekać bezglutenowy biszkopt bez dodatku cukru jak i bezglutenowy.\nJeśli uczestnik chce wykonać tort w wersji wegańskiej\, bezcukrowej i bezglutenowej\, każdy z uczestników będzie miał do wyboru wersję wykonywanego tortu.\nKażdy zabiera ze sobą stworzone dzieła do domu\n  \nPodczas warsztatów zapewniamy: \n\ndoskonałą zabawę\,\ndegustację przygotowywanego tortu\,\nfartuch dla każdego uczestnika\,\nuszykowane stanowisko pracy z wszystkimi produktami\,\nwodę mineralną\, kawę i herbatę\,\nmateriały szkoleniowe\,\nopakowania na wynos\, dzięki którym podzielisz się swoimi potrawami z najbliższymi\,\npomoc w wykonywaniu ciast i cenne wskazówki\,\ncertyfikat ukończenia warsztatów.\n\n  \n  \nPrzebieg Warsztatów: \n\nPrzedstawienie i prezentacja tortów jakie będziemy wykonywać podczas warsztatów.\nOmówienie wykonania idealnego tortu\nOmówienie zamienników cukru\, zamienników mąk\, produktów przeznaczonych dla alergików i wegan.\nPrzygotowanie biszkoptu bez cukru\, bez glutenu\, wegańskiego\nPrzygotowanie kremów idealnych w wersji Fit i bez cukru.\nPrzygotowanie Drip Cake w różnych wersjach.\nZdobienie tortów.\nZdjęcia wykonanych słodkości.\nWręczenie certyfikatów.\n\n  \nIlość miejsc ograniczona (max 8) \nCzas Trwania 4-5h \nKoszt: 300 zł \nZapisy: \nakademia@wypiekana.pl\, \ntel. 608-419-930 \nFormularz kontaktowy: \nBłąd: Brak formularza kontaktowego. \nUczestnictwo w warsztatach jest równoznaczne z akceptacją regulaminu:\nRegulamin Akademia WypiekAna \n \nWypiekAna Fit Tort\nWypiekAna Fit Tort\nWypiekAna Fit Tort\nWypiekAna Fit Tort
URL:https://www.wypiekana.pl/wydarzenie/fit-torty/
CATEGORIES:warsztaty
ATTACH;FMTTYPE=image/png:https://www.wypiekana.pl/wp-content/uploads/2018/10/Warsztaty-kulinarne-Akademia-WypiekAna-Halloween-1.png
END:VEVENT
END:VCALENDAR