BEGIN:VCALENDAR
VERSION:2.0
PRODID:-//WypiekAna - ECPv5.8.1//NONSGML v1.0//EN
CALSCALE:GREGORIAN
METHOD:PUBLISH
X-WR-CALNAME:WypiekAna
X-ORIGINAL-URL:https://www.wypiekana.pl
X-WR-CALDESC:Events for WypiekAna
BEGIN:VTIMEZONE
TZID:Europe/Warsaw
BEGIN:DAYLIGHT
TZOFFSETFROM:+0100
TZOFFSETTO:+0200
TZNAME:CEST
DTSTART:20230326T010000
END:DAYLIGHT
BEGIN:STANDARD
TZOFFSETFROM:+0200
TZOFFSETTO:+0100
TZNAME:CET
DTSTART:20231029T010000
END:STANDARD
END:VTIMEZONE
BEGIN:VEVENT
DTSTART;TZID=Europe/Warsaw:20230730T083000
DTEND;TZID=Europe/Warsaw:20230730T143000
DTSTAMP:20260426T050548
CREATED:20230606T094050Z
LAST-MODIFIED:20230606T094050Z
UID:7323-1690705800-1690727400@www.wypiekana.pl
SUMMARY:Fit Torty- bez cukru\, bez glutenu\, wegańskie\, bez laktozy
DESCRIPTION:Warsztaty cukiernicze Fit Tort\n                                                                                                \n  \n \nPodczas warsztatów poznacie jak ze zwykłych prostych produktów stworzyć pyszne\, zdrowe\, niskokaloryczne tort\, które smakowo nie różnią się od tradycyjnych cukierniczych wyrobów.\nStworzymy torty ze zdobieniem.\nNauczymy się wypiekać bezglutenowy biszkopt bez dodatku cukru jak i bezglutenowy.\nKażdy zabiera ze sobą stworzone dzieła do domu.\nWykonujemy 3 torty w wersjach: \n\nbez cukru\nbez gutenu\nwegańskie bez laktozy\n\nPrzebieg Warsztatów: \n\nPrzedstawienie i prezentacja tortów jakie będziemy wykonywać podczas warsztatów.\nOmówienie wykonania idealnego tortu\nOmówienie zamienników cukru\, zamienników mąk\, produktów przeznaczonych dla alergików\, osób z wykluczeniami\nPrzygotowanie biszkoptu bez cukru\, bez glutenu\, wegańskiego\nKremy idealne w różnych wersjach Fit i bez cukru.\nPrzygotowanie tortów  w różnych wersjach.\nZdobienie tortów.\nZdjęcia wykonanych słodkości.\nWręczenie certyfikatów.\n\n  \nPodczas warsztatów zapewniamy: \n\ndoskonałą zabawę\,\ndegustację przygotowywanego tortu\,\nuszykowane stanowisko pracy z wszystkimi produktami\,\nwodę mineralną\, kawę i herbatę\,\nmateriały szkoleniowe\,\nopakowania na wynos\, dzięki którym podzielisz się swoimi potrawami z najbliższymi\,\npomoc w wykonywaniu ciast i cenne wskazówki\,\ncertyfikat ukończenia warsztatów.\n\nDodatkowo każda osoba otrzyma : \n\ndyplom\nskrypt z przepisami\n\n a to wszystko zabierze ze sobą do domu 🙂 \n  \n\n \n\nIlość miejsc ograniczona  \nCzas Trwania 4-5h \nKoszt: 550 zł \n  \nKup bilet \n \nProwadząca:\nAnna Samsel\nZałożycielka firmy WypiekAna i Akademii WypiekAna. \n“Z zawodu jestem inżynierem okrętownictwa- pieczenie od zawsze było moją pasją\, które stało się również moją pracą.  \nZapraszam Was do mojego słodkiego świata w którym chętnie dzielę się swoją wiedzą i doświadczeniem 🙂 “ \n  \n  \n  \nMiejsce Wydarzenia\nLokalizacja WypiekAna Podwale Staromiejskie 62/68a Gdańsk  \ntel. 608419930\n \n  \nZapisy:\nAkademia@wypiekana.pl\ntel. +48 608-41-99-30\n \nKup Bilet: \n \nRegulamin Akademia WypiekAna
URL:https://www.wypiekana.pl/wydarzenie/fit-torty-lipiec-3/
LOCATION:WypiekAna\, ul. Kartuska 396/3\, Gdańsk\, pomorskie\, 80-845\, Poland
CATEGORIES:warsztaty
ATTACH;FMTTYPE=image/png:https://www.wypiekana.pl/wp-content/uploads/2021/10/Fit-torty-WypiekAna-2.png
ORGANIZER;CN="WypiekAna":MAILTO:akademia@wypiekana.pl
END:VEVENT
END:VCALENDAR