BEGIN:VCALENDAR
VERSION:2.0
PRODID:-//WypiekAna - ECPv5.8.1//NONSGML v1.0//EN
CALSCALE:GREGORIAN
METHOD:PUBLISH
X-WR-CALNAME:WypiekAna
X-ORIGINAL-URL:https://www.wypiekana.pl
X-WR-CALDESC:Events for WypiekAna
BEGIN:VTIMEZONE
TZID:Europe/Warsaw
BEGIN:DAYLIGHT
TZOFFSETFROM:+0100
TZOFFSETTO:+0200
TZNAME:CEST
DTSTART:20200329T010000
END:DAYLIGHT
BEGIN:STANDARD
TZOFFSETFROM:+0200
TZOFFSETTO:+0100
TZNAME:CET
DTSTART:20201025T010000
END:STANDARD
END:VTIMEZONE
BEGIN:VEVENT
DTSTART;TZID=Europe/Warsaw:20201011T083000
DTEND;TZID=Europe/Warsaw:20201011T133000
DTSTAMP:20260420T134314
CREATED:20190203T133457Z
LAST-MODIFIED:20201007T195541Z
UID:3010-1602405000-1602423000@www.wypiekana.pl
SUMMARY:Warsztaty cukiernicze Fit Ciasta od A do Z
DESCRIPTION:Warsztaty cukiernicze: Fit Ciasta od A do Z\nPodczas warsztatów wykonamy kultowe ciasta w wersji zdrowej\,kolorowe słodkości pełne sezonowych owoców i naturalnych składników.\n\nAl’a Ferrero Rocher\nAl’a Kinder Country\nBrownie z owocami\nMarchewkowe\nFit Sernik\n\nBędą wersje wegańskie\, bezglutenowe\, bez cukru.\n  \n  \nSezon na Jabłka rozpoczęty więc wykonamy również szarlotkę . \n \nPodczas warsztatów zapewniamy:\n\ndoskonałą zabawę\,\nfartuch dla każdego uczestnika\,\nuszykowane stanowisko pracy z wszystkimi produktami\,\nwodę mineralną\, kawę i herbatę\,\nmateriały szkoleniowe\,\nopakowania na wynos\, dzięki którym podzielisz się swoimi potrawami z najbliższymi\,\npomoc w wykonywaniu ciast i cenne wskazówki\n\n \nPrzebieg Warsztatów:\n\nOmówienie składników z jakimi będziemy pracować\nJak ozdabiać wypieki\nZdrowe mąki\, cukry\, oleje\nZamienniki wypieków na zdrowe alternatywy\, wersje wegańskie\, bezglutenowe\, bez cukru\, bez laktozy.\nPrzygotowanie wypieków na zimno i gorąco\nZdobienie wypieków\nZdjęcia\nWręczenie certyfikatów.\n\nProwadząca:\nAnna Samsel\nZałożycielka firmy WypiekAna i Akademii WypiekAna. \n“Z zawodu jestem inżynierem okrętownictwa- pieczenie od zawsze było moją pasją\, które stało się również moją pracą. Uwielbiam  te mniej zdrowe słodycze zamieniać na zdrowe. \nZapraszam Was do mojego słodkiego świata w którym chętnie dzielę się swoją wiedzą i doświadczeniem 🙂 “ \n  \nIlość miejsc ograniczona  \nCzas Trwania 4-5h \nKoszt: 300 zł \n \n\nW TYM SAMYM DNIU ODBYWAJĄ SIĘ RÓWNIEŻ WARSZTATY :\nFIT BATONY\, ZDROWE DESERKI I ŚNIADANIA\, \nO GODZINIE 14.30\, BIORĄC UDZIAŁ W DWÓCH SZKOLENIACH OTRZYMUJESZ RABAT 50 ZŁ\n\n  \nZapisy: \nakademia@wypiekana.pl\, \ntel. 608-419-930 \nKup bilet :\n\n\n  \nUczestnictwo w warsztatach jest równoznaczne z akceptacją regulaminu: \nRegulamin Akademia WypiekAna \n \nWarsztaty odbywają się w pracowni WypiekAna Gdańsk ul. Jesionowa 13 \nhttps://goo.gl/maps/Enei5U7kcA72
URL:https://www.wypiekana.pl/wydarzenie/fit-ciasta-pazdziernik/
LOCATION:WypiekAna\, ul. Kartuska 396/3\, Gdańsk\, pomorskie\, 80-845\, Poland
CATEGORIES:warsztaty
ATTACH;FMTTYPE=image/jpeg:https://www.wypiekana.pl/wp-content/uploads/2020/09/WypiekAna-109-scaled.jpg
ORGANIZER;CN="WypiekAna":MAILTO:akademia@wypiekana.pl
END:VEVENT
END:VCALENDAR